BEGIN:VCALENDAR
VERSION:2.0
PRODID:-//thearcsolano.org//NONSGML kigkonsult.se iCalcreator 2.30.10//
CALSCALE:GREGORIAN
METHOD:PUBLISH
UID:fb86f2d6-1d5a-4f27-a95b-365f7167df54
X-WR-CALDESC:When you eat at MOD Pizza on January 28 and mention The Arc-So
 lano\, MOD Pizza will donate 20% to us!   Enjoy a delicious\, made to orde
 r pizza or salad\, and don't forget your No-Name cake\, while starting off
  the New Year doing good for your community!  Please RSVP to the event by 
 clicking on the link below.  Thank you\, in advance\, for your generosity!
X-WR-RELCALID:6b51ef95d3716d85b832bd08518dced4
X-WR-TIMEZONE:America/Los_Angeles
BEGIN:VTIMEZONE
TZID:America/Los_Angeles
BEGIN:STANDARD
TZNAME:PST
DTSTART:20191103T020000
TZOFFSETFROM:-0700
TZOFFSETTO:-0800
RDATE:20201101T020000
END:STANDARD
BEGIN:DAYLIGHT
TZNAME:PDT
DTSTART:20190310T020000
TZOFFSETFROM:-0800
TZOFFSETTO:-0700
RDATE:20200308T020000
RDATE:20210314T020000
END:DAYLIGHT
END:VTIMEZONE
BEGIN:VEVENT
UID:dcf51cda-669f-409f-b36f-146c62b1c99f
DTSTAMP:20260422T085132Z
DESCRIPTION:When you eat at MOD Pizza on January 28 and mention The Arc-Sol
 ano\, MOD Pizza will donate 20% to us!   Enjoy a delicious\, made to order
  pizza or salad\, and don't forget your No-Name cake\, while starting off 
 the New Year doing good for your community!  Please RSVP to the event by c
 licking on the link below.  Thank you\, in advance\, for your generosity!
DTSTART;TZID=America/Los_Angeles:20200128T103000
DTEND;TZID=America/Los_Angeles:20200128T220000
LOCATION:163 Plaza Drive\, Vallejo\, CA 94591
SUMMARY:MOD Pizza Fundraiser
END:VEVENT
END:VCALENDAR
