BEGIN:VCALENDAR
VERSION:2.0
PRODID:-//thearcsolano.org//NONSGML kigkonsult.se iCalcreator 2.30.10//
CALSCALE:GREGORIAN
METHOD:PUBLISH
UID:a34cc948-ece7-4aab-b67e-c3a65864d9f5
X-WR-CALDESC:<p>The Arc-Solano is thrilled to host the Sprout Touring Film 
 Festival in October 2020. This festival includes many excellent short film
 s featuring people with Intellectual/Developmental disabilities. It is fun
 ny\, empowering\, deep\, entertaining\, and memorable\; we hope you love t
 hese films as much as we do. This film festival embodies many of The Arc-S
 olano's guiding principles\, including empowerment\, education\, advocacy\
 , and life-long learning. We are delighted with the success of this deligh
 tful and powerful presentation.  Like the Sprout organization\, we also ai
 m to 'Make the Invisible Visible.'</p>\n\n\n<p>Our 2019 Sprout Touring Fil
 m Festival event was HUGELY successful! The audience loved the films\, it 
 brought a new awareness to the community\, and it was a fun-filled evening
  for all\, in the beautiful venue of the Cal Maritime campus.  Due to COVI
 D-19\, we\, unfortunately\, cannot host this event at Cal Maritime.  So th
 is year\, we are bringing the event to you via Zoom!  You can get comfy\, 
 pop some popcorn\, and relax in your own space while watching these fantas
 tic films.  </p>\n\n\n<p>The event begins at 4:30 pm and we start the movi
 e screening at 5 pm.  During our intermission\, at 6 pm\, you will have a 
 chance to participate in our Art Sale.  The second batch of films will beg
 in around 6:30\, concluding at 7:15 pm.  We will announce the winners of t
 he Art Sale once the movies have concluded. </p>\n\n<p>The Arc-Solano grea
 tly appreciates your support!  Without your generosity\, we would not be a
 ble to provide our top-quality\, essential services.  Proceeds from this f
 estival will positively impact the lives of our program participants who l
 ive throughout Solano County.</p>
X-WR-RELCALID:a04b276f8c997d4eec0cd763ec93430e
X-WR-TIMEZONE:America/Los_Angeles
BEGIN:VTIMEZONE
TZID:America/Los_Angeles
BEGIN:STANDARD
TZNAME:PST
DTSTART:20191103T020000
TZOFFSETFROM:-0700
TZOFFSETTO:-0800
RDATE:20201101T020000
RDATE:20211107T020000
END:STANDARD
BEGIN:DAYLIGHT
TZNAME:PDT
DTSTART:20200308T020000
TZOFFSETFROM:-0800
TZOFFSETTO:-0700
RDATE:20210314T020000
RDATE:20220313T020000
END:DAYLIGHT
END:VTIMEZONE
BEGIN:VEVENT
UID:acaaf654-9abc-4826-864e-9878a13ec57d
DTSTAMP:20260425T023233Z
DESCRIPTION:<p>The Arc-Solano is thrilled to host the Sprout Touring Film F
 estival in October 2020. This festival includes many excellent short films
  featuring people with Intellectual/Developmental disabilities. It is funn
 y\, empowering\, deep\, entertaining\, and memorable\; we hope you love th
 ese films as much as we do. This film festival embodies many of The Arc-So
 lano's guiding principles\, including empowerment\, education\, advocacy\,
  and life-long learning. We are delighted with the success of this delight
 ful and powerful presentation.  Like the Sprout organization\, we also aim
  to 'Make the Invisible Visible.'</p>\n\n\n<p>Our 2019 Sprout Touring Film
  Festival event was HUGELY successful! The audience loved the films\, it b
 rought a new awareness to the community\, and it was a fun-filled evening 
 for all\, in the beautiful venue of the Cal Maritime campus.  Due to COVID
 -19\, we\, unfortunately\, cannot host this event at Cal Maritime.  So thi
 s year\, we are bringing the event to you via Zoom!  You can get comfy\, p
 op some popcorn\, and relax in your own space while watching these fantast
 ic films.  </p>\n\n\n<p>The event begins at 4:30 pm and we start the movie
  screening at 5 pm.  During our intermission\, at 6 pm\, you will have a c
 hance to participate in our Art Sale.  The second batch of films will begi
 n around 6:30\, concluding at 7:15 pm.  We will announce the winners of th
 e Art Sale once the movies have concluded. </p>\n\n<p>The Arc-Solano great
 ly appreciates your support!  Without your generosity\, we would not be ab
 le to provide our top-quality\, essential services.  Proceeds from this fe
 stival will positively impact the lives of our program participants who li
 ve throughout Solano County.</p>
DTSTART;TZID=America/Los_Angeles:20201017T163000
DTEND;TZID=America/Los_Angeles:20201017T193000
LOCATION:Your house!  This event will be held online via Zoom.
SUMMARY:Sprout Touring Film Festival
END:VEVENT
END:VCALENDAR
