BEGIN:VCALENDAR
VERSION:2.0
PRODID:-//thearcsolano.org//NONSGML kigkonsult.se iCalcreator 2.30.10//
CALSCALE:GREGORIAN
METHOD:PUBLISH
UID:6cdb1507-f475-4782-8fe5-cf90987428c9
X-WR-CALDESC:Part 2 of our Sprout Film Festival is expressly for individual
 s with developmental disabilities!  Word is being spread through your day 
 programs\, SLS and ILS programs\, houses\, and any other possible venue.  
 Please register in advance for this event!  \n\nWhen: Oct 19\, 2020 10:30 
 AM Pacific Time (US and Canada) \nTopic: The Arc-Solano's Sprout Film Fest
 ival\, pt. 2\n\nRegister in advance for this webinar:\nhttps://us02web.zoo
 m.us/webinar/register/WN_cZy9AQPiQe2NEMa8acdEjg\n\nAfter registering\, you
  will receive a confirmation email containing information about joining th
 e webinar.
X-WR-RELCALID:fb2560209740dbdb03ce4d04ba422fd9
X-WR-TIMEZONE:America/Los_Angeles
BEGIN:VTIMEZONE
TZID:America/Los_Angeles
BEGIN:STANDARD
TZNAME:PST
DTSTART:20191103T020000
TZOFFSETFROM:-0700
TZOFFSETTO:-0800
RDATE:20201101T020000
RDATE:20211107T020000
END:STANDARD
BEGIN:DAYLIGHT
TZNAME:PDT
DTSTART:20200308T020000
TZOFFSETFROM:-0800
TZOFFSETTO:-0700
RDATE:20210314T020000
RDATE:20220313T020000
END:DAYLIGHT
END:VTIMEZONE
BEGIN:VEVENT
UID:8e8467d9-7996-4220-b6bc-3e7dd0820601
DTSTAMP:20260425T022147Z
DESCRIPTION:Part 2 of our Sprout Film Festival is expressly for individuals
  with developmental disabilities!  Word is being spread through your day p
 rograms\, SLS and ILS programs\, houses\, and any other possible venue.  P
 lease register in advance for this event!  \n\nWhen: Oct 19\, 2020 10:30 A
 M Pacific Time (US and Canada) \nTopic: The Arc-Solano's Sprout Film Festi
 val\, pt. 2\n\nRegister in advance for this webinar:\nhttps://us02web.zoom
 .us/webinar/register/WN_cZy9AQPiQe2NEMa8acdEjg\n\nAfter registering\, you 
 will receive a confirmation email containing information about joining the
  webinar.
DTSTART;TZID=America/Los_Angeles:20201019T103000
DTEND;TZID=America/Los_Angeles:20201019T120000
LOCATION:
SUMMARY:Sprout Film Festival for Consumers
END:VEVENT
END:VCALENDAR
