BEGIN:VCALENDAR
VERSION:2.0
PRODID:-//thearcsolano.org//NONSGML kigkonsult.se iCalcreator 2.30.10//
CALSCALE:GREGORIAN
METHOD:PUBLISH
UID:ea574ca0-f021-4dfb-952b-9b4f58d6a5ef
X-WR-CALDESC:
X-WR-RELCALID:5518b20bc8712799f6217c6e3d3d0a73
X-WR-TIMEZONE:America/Los_Angeles
BEGIN:VTIMEZONE
TZID:America/Los_Angeles
BEGIN:STANDARD
TZNAME:PST
DTSTART:20191103T020000
TZOFFSETFROM:-0700
TZOFFSETTO:-0800
RDATE:20201101T020000
RDATE:20211107T020000
END:STANDARD
BEGIN:DAYLIGHT
TZNAME:PDT
DTSTART:20200308T020000
TZOFFSETFROM:-0800
TZOFFSETTO:-0700
RDATE:20210314T020000
RDATE:20220313T020000
END:DAYLIGHT
END:VTIMEZONE
BEGIN:VEVENT
UID:7b4d1d85-366f-4477-b49d-4b3e186363d5
DTSTAMP:20260425T022822Z
DESCRIPTION:
DTSTART;TZID=America/Los_Angeles:20201020T190000
DTEND;TZID=America/Los_Angeles:20201020T210000
LOCATION:https://us02web.zoom.us/j/88997479066?pwd=RlNhMDZyUk5PbjFsbnVoZk40
 bjZ3dz09
SUMMARY:Board of Directors Meeting
END:VEVENT
END:VCALENDAR
