BEGIN:VCALENDAR
VERSION:2.0
PRODID:-//thearcsolano.org//NONSGML kigkonsult.se iCalcreator 2.30.10//
CALSCALE:GREGORIAN
METHOD:PUBLISH
UID:bc51610a-a8e4-4f85-80ef-7a6039b63abc
X-WR-CALDESC:Happy Holidays!  The Arc-Solano will be closed on Thursday\, D
 ecember 24 and Friday\, December 25.  Our office will reopen on Monday\, D
 ecember 28.
X-WR-RELCALID:d1a88fea319bcaea549c897cdfed75e6
X-WR-TIMEZONE:America/Los_Angeles
BEGIN:VTIMEZONE
TZID:America/Los_Angeles
BEGIN:STANDARD
TZNAME:PST
DTSTART:20201101T020000
TZOFFSETFROM:-0700
TZOFFSETTO:-0800
RDATE:20211107T020000
END:STANDARD
BEGIN:DAYLIGHT
TZNAME:PDT
DTSTART:20200308T020000
TZOFFSETFROM:-0800
TZOFFSETTO:-0700
RDATE:20210314T020000
RDATE:20220313T020000
END:DAYLIGHT
END:VTIMEZONE
BEGIN:VEVENT
UID:cce2edf7-06d7-4f16-9250-c0363e8dd53d
DTSTAMP:20260424T223009Z
DESCRIPTION:Happy Holidays!  The Arc-Solano will be closed on Thursday\, De
 cember 24 and Friday\, December 25.  Our office will reopen on Monday\, De
 cember 28.
DTSTART;TZID=America/Los_Angeles:20201224T000000
DTEND;TZID=America/Los_Angeles:20201225T235900
LOCATION:
SUMMARY:Merry Christmas!  (Our Office is Closed)
END:VEVENT
END:VCALENDAR
