BEGIN:VCALENDAR
VERSION:2.0
PRODID:-//thearcsolano.org//NONSGML kigkonsult.se iCalcreator 2.30.10//
CALSCALE:GREGORIAN
METHOD:PUBLISH
UID:c378ec24-89f7-4348-b9b4-2b1c2140f4d7
X-WR-CALDESC:Celebrate 2021 and join The Arc-Solano for an evening of virtu
 al Bingo!  When you purchase your Bingo card for $20\, we'll email it to y
 ou and you can print it out.  On January 15th\, grab a drink and your card
  then join us on Zoom!
X-WR-RELCALID:6834e1e5b614cd5af8b25c051c5c5ac2
X-WR-TIMEZONE:America/Los_Angeles
BEGIN:VTIMEZONE
TZID:America/Los_Angeles
BEGIN:STANDARD
TZNAME:PST
DTSTART:20201101T020000
TZOFFSETFROM:-0700
TZOFFSETTO:-0800
RDATE:20211107T020000
END:STANDARD
BEGIN:DAYLIGHT
TZNAME:PDT
DTSTART:20200308T020000
TZOFFSETFROM:-0800
TZOFFSETTO:-0700
RDATE:20210314T020000
RDATE:20220313T020000
END:DAYLIGHT
END:VTIMEZONE
BEGIN:VEVENT
UID:5ea99608-c157-412d-aaf8-293f77c6aeab
DTSTAMP:20260424T204844Z
DESCRIPTION:Celebrate 2021 and join The Arc-Solano for an evening of virtua
 l Bingo!  When you purchase your Bingo card for $20\, we'll email it to yo
 u and you can print it out.  On January 15th\, grab a drink and your card 
 then join us on Zoom!
DTSTART;TZID=America/Los_Angeles:20210115T173000
DTEND;TZID=America/Los_Angeles:20210115T193000
LOCATION:Zoom!
SUMMARY:Virtual Bingo!
END:VEVENT
END:VCALENDAR
