BEGIN:VCALENDAR
VERSION:2.0
PRODID:-//thearcsolano.org//NONSGML kigkonsult.se iCalcreator 2.30.10//
CALSCALE:GREGORIAN
METHOD:PUBLISH
UID:b2eba8af-ff14-41fa-8cf9-08104e31732a
X-WR-CALDESC:Our Annual Membership Meeting will be held on Tuesday\, June 1
 5th\, 2021\, at 7:30 pm.  Please join us to find out what has been happeni
 ng at The Arc-Solano in the last year!  We will also hold our annual elect
 ions for our Board of Directors.  We look forward to seeing you!
X-WR-RELCALID:4b02e95e742c8c9a4d2bb541b1e776e1
X-WR-TIMEZONE:America/Los_Angeles
BEGIN:VTIMEZONE
TZID:America/Los_Angeles
BEGIN:STANDARD
TZNAME:PST
DTSTART:20201101T020000
TZOFFSETFROM:-0700
TZOFFSETTO:-0800
RDATE:20211107T020000
RDATE:20221106T020000
END:STANDARD
BEGIN:DAYLIGHT
TZNAME:PDT
DTSTART:20210314T020000
TZOFFSETFROM:-0800
TZOFFSETTO:-0700
RDATE:20220313T020000
END:DAYLIGHT
END:VTIMEZONE
BEGIN:VEVENT
UID:331018f5-b3d7-4918-9428-133662898bb6
DTSTAMP:20260424T161447Z
DESCRIPTION:Our Annual Membership Meeting will be held on Tuesday\, June 15
 th\, 2021\, at 7:30 pm.  Please join us to find out what has been happenin
 g at The Arc-Solano in the last year!  We will also hold our annual electi
 ons for our Board of Directors.  We look forward to seeing you!
DTSTART;TZID=America/Los_Angeles:20210615T193000
DTEND;TZID=America/Los_Angeles:20210615T210000
LOCATION:https://us02web.zoom.us/meeting/register/tZIoceqvrz8oHtLQdNi8DTLU7
 _JcB4PznZG2
SUMMARY:Annual Membership Meeting 2021
END:VEVENT
END:VCALENDAR
