BEGIN:VCALENDAR
VERSION:2.0
PRODID:-//thearcsolano.org//NONSGML kigkonsult.se iCalcreator 2.30.10//
CALSCALE:GREGORIAN
METHOD:PUBLISH
UID:41e0212e-0797-467e-9868-653024e05a43
X-WR-CALDESC:This free event is for all of our program participants and oth
 ers with intellectual and/or developmental disabilities.  We will open the
  webinar at 10:15 am and begin watching the films by 10:45.  We hope to se
 e you there!
X-WR-RELCALID:fc8f162532b3e42392d67091dc4697b2
X-WR-TIMEZONE:America/Los_Angeles
BEGIN:VTIMEZONE
TZID:America/Los_Angeles
BEGIN:STANDARD
TZNAME:PST
DTSTART:20201101T020000
TZOFFSETFROM:-0700
TZOFFSETTO:-0800
RDATE:20211107T020000
RDATE:20221106T020000
END:STANDARD
BEGIN:DAYLIGHT
TZNAME:PDT
DTSTART:20210314T020000
TZOFFSETFROM:-0800
TZOFFSETTO:-0700
RDATE:20220313T020000
RDATE:20230312T020000
END:DAYLIGHT
END:VTIMEZONE
BEGIN:VEVENT
UID:a04acecc-066a-4393-9aa7-bad1ce165f78
DTSTAMP:20260424T212651Z
DESCRIPTION:This free event is for all of our program participants and othe
 rs with intellectual and/or developmental disabilities.  We will open the 
 webinar at 10:15 am and begin watching the films by 10:45.  We hope to see
  you there!
DTSTART;TZID=America/Los_Angeles:20210924T103000
DTEND;TZID=America/Los_Angeles:20210924T123000
LOCATION:https://us02web.zoom.us/webinar/register/WN_AEecDDa7TL-7HhEtFy6F5g
SUMMARY:Sprout Film Festival for Participants
END:VEVENT
END:VCALENDAR
