BEGIN:VCALENDAR
VERSION:2.0
PRODID:-//thearcsolano.org//NONSGML kigkonsult.se iCalcreator 2.30.10//
CALSCALE:GREGORIAN
METHOD:PUBLISH
UID:93ccbc10-c37c-4c7f-b438-3b4ae6de121c
X-WR-CALDESC:Thank you to everyone who attended and supported our 3rd Annua
 l Sprout Film Festival at The Empress Theatre!  We all had a great time at
  this beautiful art deco venue that is located in downtown Vallejo. The do
 ors opened at 2 pm so our guests had plenty of time to browse and bid on o
 ur awesome silent auction items\, purchase popcorn\, soda\, and candy\, an
 d select their seats.  \n\nThe 14 short films we selected started at 3 pm.
   They included music videos\, poetry\, documentaries\, animation\, and na
 rrative fiction. Feedback on the films was very positive\, though the two 
 films 'I am Ziggy' and 'Fighter' proved to be a bit controversial. Not eve
 ryone was comfortable with them. Halfway through our screening\, we had an
  extended intermission so folks could check and finalize their silent auct
 ion bids and refill their popcorn.  \n\nSupport for this event directly im
 pacts our participants' qualify of life.  Our most vital resource in provi
 ding quality services to our consumers is our staff.  Most of our funding 
 is from the state and federal governments\;  however\, it hardly provides 
 a living wage for our direct support staff\, much less what they actually 
 deserve for the contributions they make to our consumers’ lives. Ticket pu
 rchases and silent auction proceeds help keep consistent\, stable\, and qu
 ality staffing in our programs. It also enables us to provide significant 
 enrichments to our programs\, like our Art@Arc program\, literacy\, and fi
 eld trips to places like the Fine Arts Museums of San Francisco and Major 
 League Baseball games.  We can purchase new and exciting curriculums for t
 eaching ADLs\, Spanish classes\, and healthy relationships.  We can stay u
 p-to-date with technology needs and provide staff with Chromebooks and Zoo
 m accounts and consumers with tablets and hotspots.\n\nWe will see you aga
 in at the 2022 Sprout Film Festival!
X-WR-RELCALID:20ec89734c59ef652059131f680e60ab
X-WR-TIMEZONE:America/Los_Angeles
BEGIN:VTIMEZONE
TZID:America/Los_Angeles
BEGIN:STANDARD
TZNAME:PST
DTSTART:20201101T020000
TZOFFSETFROM:-0700
TZOFFSETTO:-0800
RDATE:20211107T020000
RDATE:20221106T020000
END:STANDARD
BEGIN:DAYLIGHT
TZNAME:PDT
DTSTART:20210314T020000
TZOFFSETFROM:-0800
TZOFFSETTO:-0700
RDATE:20220313T020000
RDATE:20230312T020000
END:DAYLIGHT
END:VTIMEZONE
BEGIN:VEVENT
UID:0487d5d6-cf49-4dba-8216-31035af15e62
DTSTAMP:20260424T212823Z
DESCRIPTION:Thank you to everyone who attended and supported our 3rd Annual
  Sprout Film Festival at The Empress Theatre!  We all had a great time at 
 this beautiful art deco venue that is located in downtown Vallejo. The doo
 rs opened at 2 pm so our guests had plenty of time to browse and bid on ou
 r awesome silent auction items\, purchase popcorn\, soda\, and candy\, and
  select their seats.  \n\nThe 14 short films we selected started at 3 pm. 
  They included music videos\, poetry\, documentaries\, animation\, and nar
 rative fiction. Feedback on the films was very positive\, though the two f
 ilms 'I am Ziggy' and 'Fighter' proved to be a bit controversial. Not ever
 yone was comfortable with them. Halfway through our screening\, we had an 
 extended intermission so folks could check and finalize their silent aucti
 on bids and refill their popcorn.  \n\nSupport for this event directly imp
 acts our participants' qualify of life.  Our most vital resource in provid
 ing quality services to our consumers is our staff.  Most of our funding i
 s from the state and federal governments\;  however\, it hardly provides a
  living wage for our direct support staff\, much less what they actually d
 eserve for the contributions they make to our consumers’ lives. Ticket pur
 chases and silent auction proceeds help keep consistent\, stable\, and qua
 lity staffing in our programs. It also enables us to provide significant e
 nrichments to our programs\, like our Art@Arc program\, literacy\, and fie
 ld trips to places like the Fine Arts Museums of San Francisco and Major L
 eague Baseball games.  We can purchase new and exciting curriculums for te
 aching ADLs\, Spanish classes\, and healthy relationships.  We can stay up
 -to-date with technology needs and provide staff with Chromebooks and Zoom
  accounts and consumers with tablets and hotspots.\n\nWe will see you agai
 n at the 2022 Sprout Film Festival!
DTSTART;TZID=America/Los_Angeles:20210926T140000
DTEND;TZID=America/Los_Angeles:20210926T183000
LOCATION:The Empress Theatre\, 330 Virginia Street\, Vallejo\, CA 94590 US
SUMMARY:2021 Sprout Film Festival
END:VEVENT
END:VCALENDAR
