BEGIN:VCALENDAR
VERSION:2.0
PRODID:-//thearcsolano.org//NONSGML kigkonsult.se iCalcreator 2.30.10//
CALSCALE:GREGORIAN
METHOD:PUBLISH
UID:d5f21372-5983-42ce-82f7-ba75adcc5586
X-WR-CALDESC:The Arc-Solano is proud to host its 4th annual Sprout Film Fes
 tival\, which focuses exclusively on films that celebrate the diverse live
 s and creativity of people with developmental disabilities.  It challenges
  assumptions and breaks down stereotypes. Get ready to be amazed\, humbled
 \, and filled with admiration for a population that largely remains hidden
  on the sidelines. \n\nThis year\, our event will be held at the Vallejo N
 aval and Historical Museum in downtown Vallejo.  We will watch over a doze
 n short films that are 2 minutes - 20 minutes in length and come from arou
 nd the world. We will watch a variety of genres\, including comedy\, drama
 \, documentary\, and music video. Our fundraiser will feature a silent auc
 tion\, filled with items from around our community as well as vacations an
 d 'experiences' from TravelPledge. The auction and refreshments will be in
  the gorgeous Hall of History while the films will be screened in the love
 ly Heritage Chamber.  \n\nWe look forward to seeing you and thank you in a
 dvance for your support. Funds raised from the Sprout Film Festival are pu
 t towards our mission\, which is to promote the greatest personal growth\,
  community understanding\, and full participation of people with developme
 ntal disabilities and their families through support\, education\, and adv
 ocacy.
X-WR-RELCALID:82ad60e2f39d14cc10edbee79afce3c2
X-WR-TIMEZONE:America/Los_Angeles
BEGIN:VTIMEZONE
TZID:America/Los_Angeles
BEGIN:STANDARD
TZNAME:PST
DTSTART:20211107T020000
TZOFFSETFROM:-0700
TZOFFSETTO:-0800
RDATE:20221106T020000
RDATE:20231105T020000
END:STANDARD
BEGIN:DAYLIGHT
TZNAME:PDT
DTSTART:20220313T020000
TZOFFSETFROM:-0800
TZOFFSETTO:-0700
RDATE:20230312T020000
RDATE:20240310T020000
END:DAYLIGHT
END:VTIMEZONE
BEGIN:VEVENT
UID:2cbccbc0-a48d-4a42-b9e3-e477a3d9008c
DTSTAMP:20260425T172735Z
DESCRIPTION:The Arc-Solano is proud to host its 4th annual Sprout Film Fest
 ival\, which focuses exclusively on films that celebrate the diverse lives
  and creativity of people with developmental disabilities.  It challenges 
 assumptions and breaks down stereotypes. Get ready to be amazed\, humbled\
 , and filled with admiration for a population that largely remains hidden 
 on the sidelines. \n\nThis year\, our event will be held at the Vallejo Na
 val and Historical Museum in downtown Vallejo.  We will watch over a dozen
  short films that are 2 minutes - 20 minutes in length and come from aroun
 d the world. We will watch a variety of genres\, including comedy\, drama\
 , documentary\, and music video. Our fundraiser will feature a silent auct
 ion\, filled with items from around our community as well as vacations and
  'experiences' from TravelPledge. The auction and refreshments will be in 
 the gorgeous Hall of History while the films will be screened in the lovel
 y Heritage Chamber.  \n\nWe look forward to seeing you and thank you in ad
 vance for your support. Funds raised from the Sprout Film Festival are put
  towards our mission\, which is to promote the greatest personal growth\, 
 community understanding\, and full participation of people with developmen
 tal disabilities and their families through support\, education\, and advo
 cacy.
DTSTART;TZID=America/Los_Angeles:20220918T140000
DTEND;TZID=America/Los_Angeles:20220918T183000
LOCATION:Vallejo Naval and Historical Museum\, 734 Marin Street\, Vallejo\,
  CA 94590 US
SUMMARY:2022 Sprout Film Festival
END:VEVENT
END:VCALENDAR
