BEGIN:VCALENDAR
VERSION:2.0
PRODID:-//thearcsolano.org//NONSGML kigkonsult.se iCalcreator 2.30.10//
CALSCALE:GREGORIAN
METHOD:PUBLISH
UID:0fd1898e-1025-4976-8fcc-9e08fc3d981b
X-WR-CALDESC:Join us for a Science Fair! \n\nHow do COVID tests work? Which
  ice cream lasts longer on a sunny day? Can microwave water kill plants? C
 ome satisfy your curiosity at The Arc-Solano's Science Fair. Our ACT and T
 DS program participants have worked hard on their projects. Stop by and se
 e their results! \n\nThank you to Solano County Supervisor Erin Hannigan f
 or supporting this event.
X-WR-RELCALID:f88ffe3aab9f66cf5c321ddaa0d5ef49
X-WR-TIMEZONE:America/Los_Angeles
BEGIN:VTIMEZONE
TZID:America/Los_Angeles
BEGIN:STANDARD
TZNAME:PST
DTSTART:20221106T020000
TZOFFSETFROM:-0700
TZOFFSETTO:-0800
RDATE:20231105T020000
END:STANDARD
BEGIN:DAYLIGHT
TZNAME:PDT
DTSTART:20230312T020000
TZOFFSETFROM:-0800
TZOFFSETTO:-0700
RDATE:20240310T020000
END:DAYLIGHT
END:VTIMEZONE
BEGIN:VEVENT
UID:27e49317-58f7-4b78-9819-43a9faccc2a6
DTSTAMP:20260421T215446Z
DESCRIPTION:Join us for a Science Fair! \n\nHow do COVID tests work? Which 
 ice cream lasts longer on a sunny day? Can microwave water kill plants? Co
 me satisfy your curiosity at The Arc-Solano's Science Fair. Our ACT and TD
 S program participants have worked hard on their projects. Stop by and see
  their results! \n\nThank you to Solano County Supervisor Erin Hannigan fo
 r supporting this event.
DTSTART;TZID=America/Los_Angeles:20230412T110000
DTEND;TZID=America/Los_Angeles:20230412T140000
LOCATION:3272 Sonoma Blvd.\, Suite 4\, Vallejo\, CA 94590 US
SUMMARY:Science Fair
END:VEVENT
END:VCALENDAR
